BEGIN:VCALENDAR
VERSION:2.0
PRODID:-//Léman Manhattan ExportToCalendar//EN
CALSCALE:GREGORIAN
BEGIN:VEVENT
DTSTAMP:20260421T050642Z
UID:e0619a08-ac42-49bd-b8b8-42a35efe814e
DTSTART;TZID=America/New_York:20250930T000000
DTEND;TZID=America/New_York:20250930T235959
DESCRIPTION:
LOCATION:
SUMMARY:MS & HS Curriculum Night
END:VEVENT
END:VCALENDAR
