BEGIN:VCALENDAR
VERSION:2.0
PRODID:-//Léman Manhattan ExportToCalendar//EN
CALSCALE:GREGORIAN
BEGIN:VEVENT
DTSTAMP:20260421T032541Z
UID:37a78d7e-fdbf-4579-886b-75d7bc4aa5ef
DTSTART;TZID=America/New_York:20250925T000000
DTEND;TZID=America/New_York:20250925T235959
DESCRIPTION:
LOCATION:
SUMMARY:LS Curriculum Night
END:VEVENT
END:VCALENDAR
