BEGIN:VCALENDAR
VERSION:2.0
PRODID:-//Léman Manhattan ExportToCalendar//EN
CALSCALE:GREGORIAN
BEGIN:VEVENT
DTSTAMP:20260421T031943Z
UID:3fa4fd4f-f6b7-4759-8191-6b725be518d6
DTSTART;TZID=America/New_York:20250911T000000
DTEND;TZID=America/New_York:20250911T235959
DESCRIPTION:
LOCATION:
SUMMARY:EC Curriculum Night
END:VEVENT
END:VCALENDAR
