BEGIN:VCALENDAR
VERSION:2.0
PRODID:-//Léman Manhattan ExportToCalendar//EN
CALSCALE:GREGORIAN
BEGIN:VEVENT
DTSTAMP:20260421T084841Z
UID:6c90e088-d01c-48e7-8803-1a08de67101f
DTSTART;TZID=America/New_York:20251002T000000
DTEND;TZID=America/New_York:20251002T235959
DESCRIPTION:
LOCATION:
SUMMARY:Yom Kippur (School Closed)
END:VEVENT
BEGIN:VEVENT
DTSTAMP:20260421T084841Z
UID:6f6ff150-c25e-467b-acba-4a970c083205
DTSTART;TZID=America/New_York:20250923T000000
DTEND;TZID=America/New_York:20250924T235959
DESCRIPTION:
LOCATION:
SUMMARY:Rosh Hashanah (School Closed)
END:VEVENT
BEGIN:VEVENT
DTSTAMP:20260421T084841Z
UID:53ce2ae6-577f-4346-a72e-52e86d5eb82b
DTSTART;TZID=America/New_York:20251013T000000
DTEND;TZID=America/New_York:20251013T235959
DESCRIPTION:
LOCATION:
SUMMARY:Indigenous Peoples’ Day (School Closed)
END:VEVENT
BEGIN:VEVENT
DTSTAMP:20260421T084841Z
UID:db8e2ceb-83f8-4327-aaf2-fdafaa06c72e
DTSTART;TZID=America/New_York:20251014T000000
DTEND;TZID=America/New_York:20251014T235959
DESCRIPTION:
LOCATION:
SUMMARY:Grades PK-12 Late Student Arrival (10:15am)\; Faculty & Staff Profe
 ssional Development (8am-10am)\; Grades 9-12 PSAT/SAT Testing (10:30am-3:1
 5pm)
END:VEVENT
BEGIN:VEVENT
DTSTAMP:20260421T084841Z
UID:d49e3f00-74db-4542-a258-a880ec9b0417
DTSTART;TZID=America/New_York:20251020T000000
DTEND;TZID=America/New_York:20251020T235959
DESCRIPTION:
LOCATION:
SUMMARY:Diwali (School Closed)
END:VEVENT
BEGIN:VEVENT
DTSTAMP:20260421T084841Z
UID:e9856eee-dd73-4c73-83d9-daf97e62faed
DTSTART;TZID=America/New_York:20250901T000000
DTEND;TZID=America/New_York:20250901T235959
DESCRIPTION:
LOCATION:
SUMMARY:Labor Day (School Closed)\; Boarding Orientation
END:VEVENT
BEGIN:VEVENT
DTSTAMP:20260421T084841Z
UID:05b1fcca-006e-4481-a41c-20f4d1f4c700
DTSTART;TZID=America/New_York:20250902T000000
DTEND;TZID=America/New_York:20250902T235959
DESCRIPTION:
LOCATION:
SUMMARY:Family Open House\; MS & HS New Student Orientations (Grades 6-12)\
 ; Grade 12 First Day
END:VEVENT
BEGIN:VEVENT
DTSTAMP:20260421T084841Z
UID:bfdb0c02-93af-42b2-98e0-68ff2a87035f
DTSTART;TZID=America/New_York:20250903T000000
DTEND;TZID=America/New_York:20250903T235959
DESCRIPTION:
LOCATION:
SUMMARY:First Day of School\; Grade 8 Orientation
END:VEVENT
BEGIN:VEVENT
DTSTAMP:20260421T084841Z
UID:ab213461-63be-4937-a00b-630deba105ec
DTSTART;TZID=America/New_York:20250903T000000
DTEND;TZID=America/New_York:20250904T235959
DESCRIPTION:
LOCATION:
SUMMARY:Grade 7 Orientation
END:VEVENT
BEGIN:VEVENT
DTSTAMP:20260421T084841Z
UID:b814eac4-e70b-45fb-82a9-9891c2a3df47
DTSTART;TZID=America/New_York:20250903T000000
DTEND;TZID=America/New_York:20250905T235959
DESCRIPTION:
LOCATION:
SUMMARY:Grade 6 Orientation
END:VEVENT
BEGIN:VEVENT
DTSTAMP:20260421T084841Z
UID:0062cd82-a147-4939-a3a5-26baf4a3add0
DTSTART;TZID=America/New_York:20250925T000000
DTEND;TZID=America/New_York:20250925T235959
DESCRIPTION:
LOCATION:
SUMMARY:LS Curriculum Night
END:VEVENT
BEGIN:VEVENT
DTSTAMP:20260421T084841Z
UID:0650917a-4971-4fee-bfcd-6ede2082c618
DTSTART;TZID=America/New_York:20250911T000000
DTEND;TZID=America/New_York:20250911T235959
DESCRIPTION:
LOCATION:
SUMMARY:EC Curriculum Night
END:VEVENT
BEGIN:VEVENT
DTSTAMP:20260421T084841Z
UID:e007996b-38b2-4e1a-b054-99eb1f9f0001
DTSTART;TZID=America/New_York:20250930T000000
DTEND;TZID=America/New_York:20250930T235959
DESCRIPTION:
LOCATION:
SUMMARY:MS & HS Curriculum Night
END:VEVENT
BEGIN:VEVENT
DTSTAMP:20260421T084841Z
UID:0e5d74e2-2545-45a8-bcb7-b8c32e8a7737
DTSTART;TZID=America/New_York:20251030T000000
DTEND;TZID=America/New_York:20251030T235959
DESCRIPTION:
LOCATION:
SUMMARY:MS & HS Parent-Student-Teacher Conferences\; EC & LS School Day
END:VEVENT
BEGIN:VEVENT
DTSTAMP:20260421T084841Z
UID:6ce014cf-5c25-4751-8f8e-33f47f31a1bb
DTSTART;TZID=America/New_York:20251031T000000
DTEND;TZID=America/New_York:20251031T235959
DESCRIPTION:
LOCATION:
SUMMARY:MS & HS Parent-Student-Teacher Conferences (Zoom - No In-Person Att
 endance)\; EC & LS School Day
END:VEVENT
BEGIN:VEVENT
DTSTAMP:20260421T084841Z
UID:78798a8f-652d-414a-8b93-66d07d7d7fd0
DTSTART;TZID=America/New_York:20251111T000000
DTEND;TZID=America/New_York:20251111T235959
DESCRIPTION:
LOCATION:
SUMMARY:Faculty & Staff Professional Development (No Student Attendance)
END:VEVENT
BEGIN:VEVENT
DTSTAMP:20260421T084841Z
UID:0f597cd4-809f-45e7-9b9c-91d519f17a4e
DTSTART;TZID=America/New_York:20251121T000000
DTEND;TZID=America/New_York:20251121T235959
DESCRIPTION:
LOCATION:
SUMMARY:EC & LS Conferences (No Student Attendance)\; MS & HS School Day
END:VEVENT
BEGIN:VEVENT
DTSTAMP:20260421T084841Z
UID:be4a4c9f-c909-429f-9666-a8cd3e2deba9
DTSTART;TZID=America/New_York:20251126T000000
DTEND;TZID=America/New_York:20251128T235959
DESCRIPTION:
LOCATION:
SUMMARY:Thanksgiving Break (School Closed)
END:VEVENT
BEGIN:VEVENT
DTSTAMP:20260421T084841Z
UID:018211f1-2c91-46b3-987b-139c8531de7e
DTSTART;TZID=America/New_York:20251219T000000
DTEND;TZID=America/New_York:20251219T235959
DESCRIPTION:
LOCATION:
SUMMARY:Early Student Dismissal (12pm)\; Faculty & Staff Dismissal (12:30pm
 )
END:VEVENT
BEGIN:VEVENT
DTSTAMP:20260421T084841Z
UID:d4ca5fce-f663-4692-a001-f8b11e22687e
DTSTART;TZID=America/New_York:20251222T000000
DTEND;TZID=America/New_York:20251226T235959
DESCRIPTION:
LOCATION:
SUMMARY:Winter Break (School Closed)
END:VEVENT
BEGIN:VEVENT
DTSTAMP:20260421T084841Z
UID:1c573b99-d923-4282-b88e-871d52d5fa18
DTSTART;TZID=America/New_York:20251229T000000
DTEND;TZID=America/New_York:20260102T235959
DESCRIPTION:
LOCATION:
SUMMARY:Winter Break (School Closed)
END:VEVENT
BEGIN:VEVENT
DTSTAMP:20260421T084841Z
UID:1a5caaa9-80ce-433c-adbe-f57e2cb8eb24
DTSTART;TZID=America/New_York:20260119T000000
DTEND;TZID=America/New_York:20260119T235959
DESCRIPTION:
LOCATION:
SUMMARY:Dr. Reverend Martin Luther King Jr.\, Day (School Closed)
END:VEVENT
BEGIN:VEVENT
DTSTAMP:20260421T084841Z
UID:bee11d18-f46d-45e5-b64b-e0ab076b7894
DTSTART;TZID=America/New_York:20260127T000000
DTEND;TZID=America/New_York:20260127T235959
DESCRIPTION:
LOCATION:
SUMMARY:Early Student Dismissal (2pm)\; Faculty & Staff Professional Develo
 pment (2:30pm-5pm)
END:VEVENT
BEGIN:VEVENT
DTSTAMP:20260421T084841Z
UID:0c848161-6724-42da-b5b6-270f38d2d817
DTSTART;TZID=America/New_York:20260213T000000
DTEND;TZID=America/New_York:20260213T235959
DESCRIPTION:
LOCATION:
SUMMARY:Faculty & Staff Professional Development (No Student Attendance)
END:VEVENT
BEGIN:VEVENT
DTSTAMP:20260421T084841Z
UID:6f1da0ec-517c-4363-9984-ccf442387ae4
DTSTART;TZID=America/New_York:20260216T000000
DTEND;TZID=America/New_York:20260216T235959
DESCRIPTION:
LOCATION:
SUMMARY:Presidents Day (School Closed)
END:VEVENT
BEGIN:VEVENT
DTSTAMP:20260421T084841Z
UID:d849bf92-341a-46e5-a0f2-ef76883245e4
DTSTART;TZID=America/New_York:20260217T000000
DTEND;TZID=America/New_York:20260217T235959
DESCRIPTION:
LOCATION:
SUMMARY:Lunar New Year (School Closed)
END:VEVENT
BEGIN:VEVENT
DTSTAMP:20260421T084841Z
UID:89518253-5391-4132-9f8f-942d66244044
DTSTART;TZID=America/New_York:20260312T000000
DTEND;TZID=America/New_York:20260312T235959
DESCRIPTION:
LOCATION:
SUMMARY:MS & HS Parent-Student-Teacher Conferences\; EC & LS School Day
END:VEVENT
BEGIN:VEVENT
DTSTAMP:20260421T084841Z
UID:8b76e08d-fdb2-4b5e-b14b-e31af9b384a2
DTSTART;TZID=America/New_York:20260313T000000
DTEND;TZID=America/New_York:20260313T235959
DESCRIPTION:
LOCATION:
SUMMARY:MS & HS Parent-Student-Teacher Conferences (Zoom/No In-Person Atten
 dance)\; EC & LS Conferences (LS Students Lead Conferences)
END:VEVENT
BEGIN:VEVENT
DTSTAMP:20260421T084841Z
UID:e5ae4df0-e5a8-46c9-8fa0-a0c54c86000a
DTSTART;TZID=America/New_York:20260323T000000
DTEND;TZID=America/New_York:20260327T235959
DESCRIPTION:
LOCATION:
SUMMARY:Spring Break
END:VEVENT
BEGIN:VEVENT
DTSTAMP:20260421T084841Z
UID:340444ff-879a-485d-8713-6d489bf3f64d
DTSTART;TZID=America/New_York:20260330T000000
DTEND;TZID=America/New_York:20260403T235959
DESCRIPTION:
LOCATION:
SUMMARY:Spring Break
END:VEVENT
BEGIN:VEVENT
DTSTAMP:20260421T084841Z
UID:c93ceb85-6b3d-43a0-b853-5e7ea6a9e7dd
DTSTART;TZID=America/New_York:20260420T000000
DTEND;TZID=America/New_York:20260420T235959
DESCRIPTION:
LOCATION:
SUMMARY:Grades PK-10 & 12 Late Student Arrival (10:15am)\; Grade 11 PSAT (8
 am)\; Faculty & Staff Professional Development (8am-10am)
END:VEVENT
BEGIN:VEVENT
DTSTAMP:20260421T084841Z
UID:a1a0fcfa-250a-42ce-bc6d-97049b91a0e0
DTSTART;TZID=America/New_York:20260525T000000
DTEND;TZID=America/New_York:20260525T235959
DESCRIPTION:
LOCATION:
SUMMARY:Memorial Day (School Closed)
END:VEVENT
BEGIN:VEVENT
DTSTAMP:20260421T084841Z
UID:ec03c9eb-4f96-402e-b496-4150eafa3f90
DTSTART;TZID=America/New_York:20260527T000000
DTEND;TZID=America/New_York:20260527T235959
DESCRIPTION:
LOCATION:
SUMMARY:Eid al-Adha (School Closed)
END:VEVENT
BEGIN:VEVENT
DTSTAMP:20260421T084841Z
UID:5741ea17-68a5-4e0c-abe9-8d60c04a7f5f
DTSTART;TZID=America/New_York:20260529T000000
DTEND;TZID=America/New_York:20260529T235959
DESCRIPTION:
LOCATION:
SUMMARY:EC & LS Conferences (No Student Attendance)\; Early Student Dismiss
 al (12pm)\; Commencement (2pm)
END:VEVENT
BEGIN:VEVENT
DTSTAMP:20260421T084841Z
UID:c4c0b317-4ba6-4a62-a2d6-57945688b5bf
DTSTART;TZID=America/New_York:20260612T000000
DTEND;TZID=America/New_York:20260612T235959
DESCRIPTION:
LOCATION:
SUMMARY:Last Day of School\; Early Student Dismissal (12pm)\; Faculty & Sta
 ff In-Service (12pm-3pm)
END:VEVENT
BEGIN:VEVENT
DTSTAMP:20260421T084841Z
UID:e44d4ce6-3360-4b06-9580-26e42c5bbb42
DTSTART;TZID=America/New_York:20260615T000000
DTEND;TZID=America/New_York:20260616T235959
DESCRIPTION:
LOCATION:
SUMMARY:Faculty & Staff In-Service Days
END:VEVENT
BEGIN:VEVENT
DTSTAMP:20260421T084841Z
UID:80495d74-ba68-4480-be61-efb9e52e78b3
DTSTART;TZID=America/New_York:20260619T000000
DTEND;TZID=America/New_York:20260619T235959
DESCRIPTION:
LOCATION:
SUMMARY:Juneteenth (Offices Closed)
END:VEVENT
END:VCALENDAR
